BEGIN:VCALENDAR
VERSION:2.0
PRODID:-//Southern Parishes Conservative Club - ECPv4.9.14//NONSGML v1.0//EN
CALSCALE:GREGORIAN
METHOD:PUBLISH
X-WR-CALNAME:Southern Parishes Conservative Club
X-ORIGINAL-URL:https://www.southernparishes.org.uk
X-WR-CALDESC:Events for Southern Parishes Conservative Club
BEGIN:VTIMEZONE
TZID:Europe/London
BEGIN:DAYLIGHT
TZOFFSETFROM:+0000
TZOFFSETTO:+0100
TZNAME:BST
DTSTART:20260329T010000
END:DAYLIGHT
BEGIN:STANDARD
TZOFFSETFROM:+0100
TZOFFSETTO:+0000
TZNAME:GMT
DTSTART:20261025T010000
END:STANDARD
END:VTIMEZONE
BEGIN:VEVENT
DTSTART;TZID=Europe/London:20260324T080000
DTEND;TZID=Europe/London:20260810T170000
DTSTAMP:20260423T083138
CREATED:20260324T141939Z
LAST-MODIFIED:20260324T141941Z
UID:1497-1774339200-1786381200@www.southernparishes.org.uk
SUMMARY:Members Summer Events
DESCRIPTION:What’s coming up for the Summer\n  \n \nDates for your diary.\n
URL:https://www.southernparishes.org.uk/event/members-summer-events/
CATEGORIES:Member's Night
ATTACH;FMTTYPE=image/jpeg:https://www.southernparishes.org.uk/wp-content/uploads/2026/03/image10-1.jpeg
END:VEVENT
BEGIN:VEVENT
DTSTART;TZID=Europe/London:20260419T170000
DTEND;TZID=Europe/London:20260419T183000
DTSTAMP:20260423T083138
CREATED:20220419T135921Z
LAST-MODIFIED:20260407T200604Z
UID:1039-1776618000-1776623400@www.southernparishes.org.uk
SUMMARY:Meat Draw Sunday
DESCRIPTION:Members’ Event: Meat Draw Sunday\n  \nEnter the Draw for your Sunday Roast\nTickets £1 each available all week from the Bar \nThe Hidden Butcher in Botley supplies our meat\nWe support local business\n \n
URL:https://www.southernparishes.org.uk/event/tapas-sunday/
CATEGORIES:Special Event
ATTACH;FMTTYPE=image/jpeg:https://www.southernparishes.org.uk/wp-content/uploads/2025/12/15.jpg
END:VEVENT
END:VCALENDAR